BEGIN:VCALENDAR
VERSION:2.0
PRODID:-//www.casabalt.org//NONSGML kigkonsult.se iCalcreator 2.30.10//
CALSCALE:GREGORIAN
METHOD:PUBLISH
UID:efcdae2d-44d8-4329-8b96-89c69cadd09d
X-WR-CALDESC:
X-WR-RELCALID:1988bd08b9f77cc4099e0f9686571e08
X-WR-TIMEZONE:America/New_York
BEGIN:VTIMEZONE
TZID:America/New_York
BEGIN:STANDARD
TZNAME:EST
DTSTART:20241103T020000
TZOFFSETFROM:-0400
TZOFFSETTO:-0500
RDATE:20251102T020000
END:STANDARD
BEGIN:DAYLIGHT
TZNAME:EDT
DTSTART:20240310T020000
TZOFFSETFROM:-0500
TZOFFSETTO:-0400
RDATE:20250309T020000
RDATE:20260308T020000
END:DAYLIGHT
END:VTIMEZONE
BEGIN:VEVENT
UID:57dc3674-75c9-4513-a816-7813a603a1a9
DTSTAMP:20260425T021125Z
DESCRIPTION:
DTSTART;TZID=America/New_York:20250308T060000
DTEND;TZID=America/New_York:20250308T060001
LOCATION:8 Market Pl\, Suite 300\, Baltimore\, AL 21202 US
SUMMARY:CASA In-Service Conference!
END:VEVENT
END:VCALENDAR
